BEGIN:VCALENDAR
VERSION:2.0
PRODID:-//Carrie Tingley Hospital Foundation - ECPv6.15.17.1//NONSGML v1.0//EN
CALSCALE:GREGORIAN
METHOD:PUBLISH
X-WR-CALNAME:Carrie Tingley Hospital Foundation
X-ORIGINAL-URL:https://carrietingleyhospitalfoundation.org
X-WR-CALDESC:Events for Carrie Tingley Hospital Foundation
REFRESH-INTERVAL;VALUE=DURATION:PT1H
X-Robots-Tag:noindex
X-PUBLISHED-TTL:PT1H
BEGIN:VTIMEZONE
TZID:America/Denver
BEGIN:DAYLIGHT
TZOFFSETFROM:-0700
TZOFFSETTO:-0600
TZNAME:MDT
DTSTART:20250309T090000
END:DAYLIGHT
BEGIN:STANDARD
TZOFFSETFROM:-0600
TZOFFSETTO:-0700
TZNAME:MST
DTSTART:20251102T080000
END:STANDARD
BEGIN:DAYLIGHT
TZOFFSETFROM:-0700
TZOFFSETTO:-0600
TZNAME:MDT
DTSTART:20260308T090000
END:DAYLIGHT
BEGIN:STANDARD
TZOFFSETFROM:-0600
TZOFFSETTO:-0700
TZNAME:MST
DTSTART:20261101T080000
END:STANDARD
BEGIN:DAYLIGHT
TZOFFSETFROM:-0700
TZOFFSETTO:-0600
TZNAME:MDT
DTSTART:20270314T090000
END:DAYLIGHT
BEGIN:STANDARD
TZOFFSETFROM:-0600
TZOFFSETTO:-0700
TZNAME:MST
DTSTART:20271107T080000
END:STANDARD
END:VTIMEZONE
BEGIN:VEVENT
DTSTART;VALUE=DATE:20260512
DTEND;VALUE=DATE:20260513
DTSTAMP:20260420T051546
CREATED:20251219T200021Z
LAST-MODIFIED:20260313T190337Z
UID:10000305-1778572800-1778605200@carrietingleyhospitalfoundation.org
SUMMARY:Virtual Camp
DESCRIPTION:Virtual Camp brings camp and program experiences to children who cannot attend in person. Participants receive activity kits in the mail and join live or recorded sessions online\, allowing them to engage in crafts\, adaptive activities\, and social interactions from home. Visit the Quality of Life webpage to learn more.
URL:https://carrietingleyhospitalfoundation.org/calendar/virtual-camp-7/2026-05-12/
CATEGORIES:Virtual Camp
END:VEVENT
END:VCALENDAR